BEGIN:VCALENDAR
VERSION:2.0
PRODID:-//SVP Seattle - ECPv6.8.1//NONSGML v1.0//EN
CALSCALE:GREGORIAN
METHOD:PUBLISH
X-WR-CALNAME:SVP Seattle
X-ORIGINAL-URL:https://svpseattle.org
X-WR-CALDESC:Events for SVP Seattle
REFRESH-INTERVAL;VALUE=DURATION:PT1H
X-Robots-Tag:noindex
X-PUBLISHED-TTL:PT1H
BEGIN:VTIMEZONE
TZID:America/Los_Angeles
BEGIN:DAYLIGHT
TZOFFSETFROM:-0800
TZOFFSETTO:-0700
TZNAME:PDT
DTSTART:20230312T100000
END:DAYLIGHT
BEGIN:STANDARD
TZOFFSETFROM:-0700
TZOFFSETTO:-0800
TZNAME:PST
DTSTART:20231105T090000
END:STANDARD
BEGIN:DAYLIGHT
TZOFFSETFROM:-0800
TZOFFSETTO:-0700
TZNAME:PDT
DTSTART:20240310T100000
END:DAYLIGHT
BEGIN:STANDARD
TZOFFSETFROM:-0700
TZOFFSETTO:-0800
TZNAME:PST
DTSTART:20241103T090000
END:STANDARD
BEGIN:DAYLIGHT
TZOFFSETFROM:-0800
TZOFFSETTO:-0700
TZNAME:PDT
DTSTART:20250309T100000
END:DAYLIGHT
BEGIN:STANDARD
TZOFFSETFROM:-0700
TZOFFSETTO:-0800
TZNAME:PST
DTSTART:20251102T090000
END:STANDARD
END:VTIMEZONE
BEGIN:VEVENT
DTSTART;TZID=America/Los_Angeles:20231127T170000
DTEND;TZID=America/Los_Angeles:20231127T190000
DTSTAMP:20260420T181227
CREATED:20230714T193118Z
LAST-MODIFIED:20230911T235516Z
UID:5842-1701104400-1701111600@svpseattle.org
SUMMARY:Getting Ready to Advocate for Washington State Legislation Addressing Wealth Inequality
DESCRIPTION:Your voice is critical and can have an impact – especially at the state level. Learn how to advocate with your elected representatives and when your voice can have the most impact during the state legislative session. We will also share the landscape of local organizations that are working on these issues and who have dedicated advocacy activities and events. \nMany of us donate to food banks to ensure that people in our community are not going hungry. Want to participate in long term systems change\, which would mean fewer hungry people? Join us as we use our collective knowledge to bring our collective SVP voice to bear in the upcoming 2024 State Legislature legislation session (January-March 2024). \n\nGet Tickets
URL:https://svpseattle.org/event/getting-ready-to-advocate-for-washington-state-legislation-addressing-wealth-inequality/
LOCATION:WA
CATEGORIES:Advocacy
ATTACH;FMTTYPE=image/jpeg:https://svpseattle.org/wp-content/uploads/2023/07/Wealth-Inequality-Panel-Four-Nov-27.jpg
END:VEVENT
BEGIN:VEVENT
DTSTART;TZID=America/Los_Angeles:20240109T170000
DTEND;TZID=America/Los_Angeles:20240109T183000
DTSTAMP:20260420T181227
CREATED:20231205T205956Z
LAST-MODIFIED:20231219T191448Z
UID:6444-1704819600-1704825000@svpseattle.org
SUMMARY:Advocacy in Action - SVP's Legislative Session Kick-Off
DESCRIPTION:SVP has taken on a new initiative – advocating for economic justice and poverty alleviation in our state! This is the natural outcome of our journey to include meaningfully in advocacy in our work. We have an important and unique voice\, as philanthropists focused on racial justice\, to bring to the collation of organizations advocating for bills that address aspects of our regressive tax code in our state. \nJoin us for our 2024 Washington State Legislature kick-off! During the kick-off\, you’ll meet other volunteers\, gain resources and talking points behind the bills we will advocate for\, understand the timeline for getting bills passed\, craft your “story” so you can easily compose and/or deliver testimony\, and be part of the change. Together\, we can bring the vision to alleviate poverty and wealth inequality to reality. \nMark your calendars and join us online for Advocacy in Action – SVP’s Legislative Session Kick-Off! \nRegister here
URL:https://svpseattle.org/event/advocacy-in-action-svps-legislative-session-kick-off/
LOCATION:WA
CATEGORIES:Advocacy
ATTACH;FMTTYPE=image/jpeg:https://svpseattle.org/wp-content/uploads/2023/12/catiebergman_photography_2023_edits-56_websize.jpg
END:VEVENT
BEGIN:VEVENT
DTSTART;TZID=America/Los_Angeles:20240124T173000
DTEND;TZID=America/Los_Angeles:20240124T183000
DTSTAMP:20260420T181227
CREATED:20240112T185143Z
LAST-MODIFIED:20240117T201759Z
UID:6582-1706117400-1706121000@svpseattle.org
SUMMARY:Advocacy Day Office Hours
DESCRIPTION:Join us for an engaging and informative session at our Drop-In Office Hours! Whether you’re a seasoned advocate or a first-time participant\, this is your opportunity to get firsthand information on Advocacy Day\, understand the current status of important bills\, and have all your questions answered. \nZoom provided upon registration.
URL:https://svpseattle.org/event/lobby-day-office-hours/
LOCATION:WA
CATEGORIES:Advocacy,Community Events
ATTACH;FMTTYPE=image/jpeg:https://svpseattle.org/wp-content/uploads/2024/01/Advocacy.jpg
END:VEVENT
BEGIN:VEVENT
DTSTART;VALUE=DATE:20240215
DTEND;VALUE=DATE:20240216
DTSTAMP:20260420T181227
CREATED:20240117T204103Z
LAST-MODIFIED:20240117T204103Z
UID:6608-1707955200-1708041599@svpseattle.org
SUMMARY:Advocacy Day with Children's Alliance
DESCRIPTION:We are joining former grantee Children’s Alliance for their Advocacy Day in Olympia. Children’s Alliance advocates for policies to support Washington’s most underserved children. One of their legislative priorities is economic justice the same bill’s SVP is tracking. We see this Advocacy Day as the perfect opportunity to support the needs of our non-profit partners and advocate for economic justice. \nWhen you register\, please mark that you are with SVP Seattle. Please let Emiko Atherton know if you want to carpool with SVP Seattle.
URL:https://svpseattle.org/event/advocacy-day-with-childrens-alliance/
LOCATION:Olympia\, WA
CATEGORIES:Advocacy,Community Events,Learning Journeys
ATTACH;FMTTYPE=image/jpeg:https://svpseattle.org/wp-content/uploads/2024/01/catiebergman_photography_2023_edits-163_websize.jpg
END:VEVENT
BEGIN:VEVENT
DTSTART;TZID=America/Los_Angeles:20240220T120000
DTEND;TZID=America/Los_Angeles:20240220T130000
DTSTAMP:20260420T181227
CREATED:20240206T004026Z
LAST-MODIFIED:20240206T211236Z
UID:6659-1708430400-1708434000@svpseattle.org
SUMMARY:Climate Justice Cohort Info Session
DESCRIPTION:The 2024 Climate Justice Grantmaking Collaborative is an exciting initiative joint-led by Basilica Bio and Social Venture Partners Seattle (SVP). \nThis info session is an excellent opportunity to learn more about the cohort\, SVP and Basilica Bio. \nZoom link provided upon registration.
URL:https://svpseattle.org/event/climate-justice-cohort-info-session/
LOCATION:WA
CATEGORIES:Advocacy,Community Events,Grant Making
ATTACH;FMTTYPE=image/jpeg:https://svpseattle.org/wp-content/uploads/2024/02/Climate-Justice-Cohort-1.jpg
END:VEVENT
BEGIN:VEVENT
DTSTART;TZID=America/Los_Angeles:20240313T120000
DTEND;TZID=America/Los_Angeles:20240313T130000
DTSTAMP:20260420T181227
CREATED:20240223T184353Z
LAST-MODIFIED:20240223T184353Z
UID:6703-1710331200-1710334800@svpseattle.org
SUMMARY:Village SVP
DESCRIPTION:We’re excited to announce a new networking space at SVP called Village SVP. Village SVP is a new monthly virtual community experience intended to deepen the connections between us. Expect to meet other participants one-on-one in randomly paired connections.  You’ll also select a small break-out group to join and dive into meaningful conversations. \nIt is a great opportunity to connect with a community of diverse individuals representing change-makers throughout Seattle. \nWe hope you’ll join us! RSVP here
URL:https://svpseattle.org/event/village-svp/
LOCATION:WA
CATEGORIES:Advocacy,Community Events,Learning Journeys
ATTACH;FMTTYPE=image/jpeg:https://svpseattle.org/wp-content/uploads/2024/02/VillageSVP-Banner.jpg
END:VEVENT
BEGIN:VEVENT
DTSTART;TZID=America/Los_Angeles:20240321T180000
DTEND;TZID=America/Los_Angeles:20240321T200000
DTSTAMP:20260420T181227
CREATED:20240223T174209Z
LAST-MODIFIED:20240223T174209Z
UID:6700-1711044000-1711051200@svpseattle.org
SUMMARY:Climate Justice Grantmaking Collaborative
DESCRIPTION:The 2024 Climate Justice Grantmaking Collaborative is an exciting initiative joint-led by Basilica Bio and Social Venture Partners Seattle (SVP) to equitably and collectively distribute a grant award of up to $75\,000 over three years to a BIPOC-led and serving 501(c)3 or fiscally sponsored organization working towards climate justice in King County. \n  \nSVP Partners are encouraged to apply to join the cohort.
URL:https://svpseattle.org/event/climate-justice-grantmaking-collaborative/
LOCATION:Byrd Barr Place\, 722 18th Avenue\, Seattle\, WA\, 98122\, United States
CATEGORIES:Advocacy,Grant Making,Learning Journeys
ATTACH;FMTTYPE=image/jpeg:https://svpseattle.org/wp-content/uploads/2024/02/BB2.jpg
END:VEVENT
BEGIN:VEVENT
DTSTART;TZID=America/Los_Angeles:20240417T120000
DTEND;TZID=America/Los_Angeles:20240417T133000
DTSTAMP:20260420T181227
CREATED:20240304T185337Z
LAST-MODIFIED:20240304T185337Z
UID:6719-1713355200-1713360600@svpseattle.org
SUMMARY:Lunch and site visit with Dignity for Divas
DESCRIPTION:Join us for a unique opportunity to visit SVP Seattle’s organizational partner\, Dignity for Divas. During this event\, we will tour the Dignity for Divas’ space (including visit their new food pantry)\, and sit down for lunch and a discussion with their founder and Executive Dierctor\, Nikki Gane-Butler. \nAs we come together to learn more about Dignity for Divas’ impactful work\, we also invite you to consider making a suggested donation of $25-50 when registering to support their mission. \nThis event is open to all SVP Seattle Partners\, grantees\, and potential Partners. Interested in becoming a Partner? Email us at info@svpseattle.org!
URL:https://svpseattle.org/event/lunch-and-site-visit-with-dignity-for-divas/
LOCATION:Dignity for Divas\, 306 Dexter Ave N\, Seattle\, WA\, 98109
CATEGORIES:Advocacy,Community Events,Learning Journeys
ATTACH;FMTTYPE=image/jpeg:https://svpseattle.org/wp-content/uploads/2024/03/Dignity-for.jpg
END:VEVENT
BEGIN:VEVENT
DTSTART;TZID=America/Los_Angeles:20241114T180000
DTEND;TZID=America/Los_Angeles:20241114T200000
DTSTAMP:20260420T181227
CREATED:20241010T190919Z
LAST-MODIFIED:20241010T190919Z
UID:7708-1731607200-1731614400@svpseattle.org
SUMMARY:Intertwined 2024 (350 Seattle)
DESCRIPTION:Mark your calendar and get ready to party with SVP’s newest grantee\, 350 Seattle. Join 350 Seattle on Thursday\, November 14th\, to come together to uplift the hard work they’ve done this year and learn how they plan to level up and grow! \nGrab your tickets here.
URL:https://svpseattle.org/event/intertwined-2024-350-seattle/
LOCATION:Washington Hall\, 153 14th Ave\, Seattle\, WA\, 98122
CATEGORIES:Advocacy,Community Events
ATTACH;FMTTYPE=image/jpeg:https://svpseattle.org/wp-content/uploads/2024/10/Intertwined24-EVENT-COVER-V2.jpg
END:VEVENT
BEGIN:VEVENT
DTSTART;TZID=America/Los_Angeles:20241120T180000
DTEND;TZID=America/Los_Angeles:20241120T190000
DTSTAMP:20260420T181227
CREATED:20241009T232213Z
LAST-MODIFIED:20241009T232213Z
UID:7704-1732125600-1732129200@svpseattle.org
SUMMARY:Path Forward 2024 (Children's Alliance)
DESCRIPTION:Join former SVP grantee\, Children’s Alliance for a conversation with Senator Noel Frame (36th Legislative District) and Reid Saaris (founder of Equal Opportunity Schools). Together with Children’s Alliance Executive Director\, Dr. Stephan Blanford\, they will discuss potential policies to get our kids the behavioral health support they need and sources of progressive revenue that could help fund these solutions. \nThis event takes place online via Zoom.
URL:https://svpseattle.org/event/path-forward-2024-childrens-alliance/
LOCATION:Virtual
CATEGORIES:Advocacy,Community Events,Learning Journeys
ATTACH;FMTTYPE=image/jpeg:https://svpseattle.org/wp-content/uploads/2024/10/PathForward2024EventBanner940x350.jpg
END:VEVENT
BEGIN:VEVENT
DTSTART;TZID=America/Los_Angeles:20250211T090000
DTEND;TZID=America/Los_Angeles:20250211T150000
DTSTAMP:20260420T181227
CREATED:20250113T222219Z
LAST-MODIFIED:20250113T222219Z
UID:7877-1739264400-1739286000@svpseattle.org
SUMMARY:Have a Heart for Kids Day 2025
DESCRIPTION:Activate your political power and join Children’s Alliance at Have a Heart for Kids Day in Olympia! Together with child advocates from across Washington\, you will learn about the political process\, speak directly with your elected representatives\, and raise your voices at a powerful rally on the Capitol steps. \nChildren and families are welcome! Boxed lunches will be provided. \nEvent Schedule:  \n\n\n9:00 -10:00 a.m. – Check-in and sign-making (United Churches of Olympia) \n\n\n\n\n10:00 -11:00 a.m. – Advocacy trainings (two optional 30-minute sessions) and lunch pick-up \n\n\n\n\n11:00 a.m. – 2:00 p.m. – Legislator meetings and free time for lunch or exploring the Capitol (Washington State Capitol Campus) \n\n\n\n\n2:00 – 3:00 p.m. – Rally at the Capitol Building north steps with guest speakers and partners \n\n\nThis event will be primarily in-person with some potential virtual legislator meetings. \nNote: The morning location is about an 8-minute walk away from the afternoon location at the state capitol. Please plan to walk or provide your own transportation. There is limited parking at the United Churches location that will be reserved for people with accessibility needs. Parking and bus information for the state capitol can be found here. \nRegister here! Use this registration form to register yourself\, any children\, and up to 3 adult guests. (For larger groups\, please email action@childrensalliance.org.)
URL:https://svpseattle.org/event/have-a-heart-for-kids-day-2025/
LOCATION:WA
CATEGORIES:Advocacy,Community Events,Learning Journeys
ATTACH;FMTTYPE=image/png:https://svpseattle.org/wp-content/uploads/2024/04/ChildrensAlliance_Logo.png
END:VEVENT
BEGIN:VEVENT
DTSTART;TZID=America/Los_Angeles:20250306T183000
DTEND;TZID=America/Los_Angeles:20250306T203000
DTSTAMP:20260420T181227
CREATED:20250228T182855Z
LAST-MODIFIED:20250228T182855Z
UID:7981-1741285800-1741293000@svpseattle.org
SUMMARY:350 Seattle's March Climate Community Night
DESCRIPTION:Join 350 Seattle for a night of community\, connection\, and action! Climate Community Night is a space for everyone—whether you’re a long-time volunteer\, a newly engaged activist\, or just curious about climate justice. \n📅 Date: Thursday\, March 6th at 6:30 pm\n📍 Location: 350 Seattle office\, 5031 University Way NE\, Seattle\, WA 98105 \nMarch’s gathering focuses on climate justice in Olympia and the work of 350 Seattle’s Civic Action Team (CAT). Learn how CAT is championing key legislation to address pollution\, divest public pensions from fossil fuels\, cap rent hikes\, and more. \nThis family-friendly event welcomes all ages and abilities. Bring a dish to share if you can\, and join for as much of the evening as you’d like. Masks are encouraged to help keep the community safe. \nDon’t miss this chance to meet others\, learn about key climate issues\, and take action together. \nFor more information and to sign up\, click here.
URL:https://svpseattle.org/event/350-seattles-march-climate-community-night/
LOCATION:350 Seattle\, 5031 University Way NE\, Seattle\, WA\, 98105
CATEGORIES:Advocacy,Community Events
ATTACH;FMTTYPE=image/jpeg:https://svpseattle.org/wp-content/uploads/2025/02/March-night.jpg
END:VEVENT
BEGIN:VEVENT
DTSTART;TZID=America/Los_Angeles:20250428T120000
DTEND;TZID=America/Los_Angeles:20250428T130000
DTSTAMP:20260420T181227
CREATED:20250401T220237Z
LAST-MODIFIED:20250421T212314Z
UID:8002-1745841600-1745845200@svpseattle.org
SUMMARY:Power\, Policy\, & the People: Wealth Equity in Action
DESCRIPTION:Power\, Policy\, and the People: Wealth Equity in Action \nHosted by Social Venture Partners Seattle (SVP) and the Economic Opportunity Institute (EOI)\, this virtual lunchtime panel sparks timely dialogue at the intersection of racial justice\, economic opportunity\, and collective power. \nOur conversation brings together three leaders working at the forefront of community-driven change: \n\nDawn Trudeau\, one of SVP’s longest-standing Partners and a deep thinker on racial and economic equity\nShemona Moreno\, Executive Director of 350 Seattle\, our newest grantee partner and a bold voice in the climate justice movement\n\nRian Watt\, Executive Director of EOI\, leading policy efforts to advance shared prosperity across Washington State \n\n\nTogether\, they’ll explore how wealth equity\, community-led philanthropy\, and structural change are essential to shaping a just economy—especially as we look toward the upcoming legislative session and EOI’s priorities for change. \n					\n									Register Today!
URL:https://svpseattle.org/event/power-policy-the-people-wealth-equity-in-action/
LOCATION:Virtual
CATEGORIES:Advocacy,Community Events,Learning Journeys
ATTACH;FMTTYPE=image/jpeg:https://svpseattle.org/wp-content/uploads/2025/04/Power-Policy-and-the-People-for-Eventbrite.jpg
END:VEVENT
BEGIN:VEVENT
DTSTART;TZID=America/Los_Angeles:20250521T171500
DTEND;TZID=America/Los_Angeles:20250521T190000
DTSTAMP:20260420T181227
CREATED:20250403T202936Z
LAST-MODIFIED:20250407T213143Z
UID:8035-1747847700-1747854000@svpseattle.org
SUMMARY:DEI Under Fascism
DESCRIPTION:Sensemaking & Strategies for Nonprofit Leaders to Uphold Equity Amid Urgent Threats — with Aparna Rae \nIn an increasingly difficult socio-political climate\, leaders across all sectors\, especially those in leading nonprofits and philanthropic organizations\, are facing difficult questions: How do we stay true to our values when free speech and civil liberties are under attack? How do we protect and support our staff while navigating growing restrictions? When and what should we worry about when it comes to DEI programs and initiatives? \nThis session is designed for nonprofit and philanthropy executives and board members\, as well as community leaders and organizers who want to explore actionable strategies for fostering resilience\, solidarity\, and empowerment in the workplace under authoritarian conditions. \nThrough an activist lens\, we’ll cover: \n\nPractical methods for protecting vulnerable employees and supporting marginalized voices.\nTactics for promoting psychological safety and well-being.\nApproaches to building a culture of resistance\, solidarity\, and mutual care.\nNavigating legal and ethical challenges when advocating for justice within your organization.\nMaintaining legal diversity\, equity and inclusion programs\n\nYou’ll leave with the insights and tools you need to sustain your workforce\, uphold values of equity and inclusion\, and take meaningful action. Join us to build community and gain practical strategies for leading with courage in uncertain times. \n\nregister today!\n \nThe discussions in this talk are for informational purposes only and do not constitute legal advice. For specific legal guidance\, please consult a qualified attorney.
URL:https://svpseattle.org/event/dei-under-facism/
LOCATION:Byrd Barr Place\, 722 18th Avenue\, Seattle\, WA\, 98122\, United States
CATEGORIES:Advocacy,Community Events,Learning Journeys
ATTACH;FMTTYPE=image/jpeg:https://svpseattle.org/wp-content/uploads/2025/04/Aparna-Rae-DEI-Eventbrite-1.jpg
END:VEVENT
BEGIN:VEVENT
DTSTART;TZID=America/Los_Angeles:20250612T110000
DTEND;TZID=America/Los_Angeles:20250612T130000
DTSTAMP:20260420T181227
CREATED:20250408T222827Z
LAST-MODIFIED:20250408T222839Z
UID:8105-1749726000-1749733200@svpseattle.org
SUMMARY:Voices for Children 2025
DESCRIPTION:Join Children’s Alliance for their biggest community celebration of the year! This special event raises vital support for antiracist policy solutions that create a better future for every child in Washington. \nThis year\, they will be joined by Washington State Attorney General Nick Brown. During the 2025 legislative session\, Nick was instrumental in advancing the Children’s Alliance-authored bill to protect kids from the harmful effects of unregulated social media. At Voices for Children\, he will discuss what it means to resist injustice\, how we can strengthen the movement for equity\, and how advocacy makes a difference in protecting the children and youth we care about. \nGet your tickets today!
URL:https://svpseattle.org/event/voices-for-children-2025/
LOCATION:The Museum of Flight\, 9404 East Marginal Way S\, Seattle\, WA\, 98108
CATEGORIES:Advocacy,Community Events
ATTACH;FMTTYPE=image/jpeg:https://svpseattle.org/wp-content/uploads/2025/04/VoicesSpeakergraphicwebsiteevent840x470px.jpg
END:VEVENT
BEGIN:VEVENT
DTSTART;TZID=America/Los_Angeles:20251202T190000
DTEND;TZID=America/Los_Angeles:20251202T200000
DTSTAMP:20260420T181227
CREATED:20251124T230600Z
LAST-MODIFIED:20251124T230941Z
UID:8851-1764702000-1764705600@svpseattle.org
SUMMARY:EarthGen: Youth Climate Panel Webinar
DESCRIPTION:Perspectives on Supporting Climate Action and Wellbeing\n\nGrowing up in a changing climate is not easy\, but Washington students are leading with courage\, creativity\, and action. Join four student leaders for a virtual Youth Climate Panel to hear about their experiences\, emotional resilience\, and student-led climate action. \nThis session will provide insights\, strategies\, and resources to support youth as they navigate climate challenges and grow as emerging leaders. The panel is designed for teachers\, community members\, leaders\, and anyone who supports youth. \n  \nRegister here — https://tinyurl.com/m82meh2d
URL:https://svpseattle.org/event/earthgen-youth-climate-panel-webinar/
LOCATION:WA
CATEGORIES:Advocacy,Community Events
ATTACH;FMTTYPE=image/png:https://svpseattle.org/wp-content/uploads/2022/07/logo-EarthGen-e1764025621470.png
END:VEVENT
END:VCALENDAR