BEGIN:VCALENDAR
VERSION:2.0
PRODID:-//SVP Seattle - ECPv6.8.1//NONSGML v1.0//EN
CALSCALE:GREGORIAN
METHOD:PUBLISH
X-WR-CALNAME:SVP Seattle
X-ORIGINAL-URL:https://svpseattle.org
X-WR-CALDESC:Events for SVP Seattle
REFRESH-INTERVAL;VALUE=DURATION:PT1H
X-Robots-Tag:noindex
X-PUBLISHED-TTL:PT1H
BEGIN:VTIMEZONE
TZID:America/Los_Angeles
BEGIN:DAYLIGHT
TZOFFSETFROM:-0800
TZOFFSETTO:-0700
TZNAME:PDT
DTSTART:20220313T100000
END:DAYLIGHT
BEGIN:STANDARD
TZOFFSETFROM:-0700
TZOFFSETTO:-0800
TZNAME:PST
DTSTART:20221106T090000
END:STANDARD
END:VTIMEZONE
BEGIN:VEVENT
DTSTART;TZID=America/Los_Angeles:20221027T120000
DTEND;TZID=America/Los_Angeles:20221027T130000
DTSTAMP:20260419T205811
CREATED:20221018T194448Z
LAST-MODIFIED:20221024T202440Z
UID:4646-1666872000-1666875600@svpseattle.org
SUMMARY:Advocacy Learning Series: Go from Caring to Acting
DESCRIPTION:Perspectives on Supporting Climate Action and WellbeingGrowing up in a changing climate is not easy\, but Washington students are leading with courage\, creativity\, and action. Join four student leaders for a virtual Youth Climate Panel to hear about their experiences\, emotional resilience\, and student-led climate action. This session will provide insights\, strategies\, and resources to support youth as they navigate climate challenges and grow as emerging leaders. The panel is designed for teachers\, community members\, leaders\, and anyone who supports youth.   Register here — https://tinyurl.com/m82meh2d
URL:https://svpseattle.org/event/session-1-go-from-caring-to-acting-advocating-for-progressive-state-laws/
CATEGORIES:Advocacy
ATTACH;FMTTYPE=image/png:https://svpseattle.org/wp-content/uploads/2022/10/Screen-Shot-2022-10-18-at-12.30.20-PM.png
END:VEVENT
END:VCALENDAR