BEGIN:VCALENDAR
VERSION:2.0
PRODID:-//SVP Seattle - ECPv6.8.1//NONSGML v1.0//EN
CALSCALE:GREGORIAN
METHOD:PUBLISH
X-WR-CALNAME:SVP Seattle
X-ORIGINAL-URL:https://svpseattle.org
X-WR-CALDESC:Events for SVP Seattle
REFRESH-INTERVAL;VALUE=DURATION:PT1H
X-Robots-Tag:noindex
X-PUBLISHED-TTL:PT1H
BEGIN:VTIMEZONE
TZID:America/Los_Angeles
BEGIN:DAYLIGHT
TZOFFSETFROM:-0800
TZOFFSETTO:-0700
TZNAME:PDT
DTSTART:20250309T100000
END:DAYLIGHT
BEGIN:STANDARD
TZOFFSETFROM:-0700
TZOFFSETTO:-0800
TZNAME:PST
DTSTART:20251102T090000
END:STANDARD
END:VTIMEZONE
BEGIN:VEVENT
DTSTART;VALUE=DATE:20251103
DTEND;VALUE=DATE:20251104
DTSTAMP:20260423T032344
CREATED:20251016T172818Z
LAST-MODIFIED:20251016T173016Z
UID:8712-1762128000-1762214399@svpseattle.org
SUMMARY:GrowFundMe
DESCRIPTION:Starting in late OctoberGrowFundMe is SVP Seattle’s new signature program bringing together small\, BIPOC-led nonprofits and SVP Partners to learn\, build relationships\, and take action together. Partners commit their time\, talent\, treasure\, and ties to mobilize resources\, amplify nonprofit voices\, and practice equity-centered philanthropy. The program runs October–June and culminates in a Showcase that raises catalytic support for all participating nonprofits. Complete this form to let us know you’re interested. We’ll follow up to confirm your participation and with next steps. 						\n				\n					\n		\n					\n		\n				\n						\n					\n			\n						\n				\n							\n					\n						\n									Interest Form
URL:https://svpseattle.org/event/growfundme/
CATEGORIES:Community Events,Learning Journeys
ATTACH;FMTTYPE=image/png:https://svpseattle.org/wp-content/uploads/2025/10/GrowFundMe.png
END:VEVENT
END:VCALENDAR